BEGIN:VCALENDAR
VERSION:2.0
PRODID:-//Focus College - ECPv6.15.20//NONSGML v1.0//EN
CALSCALE:GREGORIAN
METHOD:PUBLISH
X-ORIGINAL-URL:https://focuscollege.com
X-WR-CALDESC:Events for Focus College
REFRESH-INTERVAL;VALUE=DURATION:PT1H
X-Robots-Tag:noindex
X-PUBLISHED-TTL:PT1H
BEGIN:VTIMEZONE
TZID:America/Vancouver
BEGIN:DAYLIGHT
TZOFFSETFROM:-0800
TZOFFSETTO:-0700
TZNAME:PDT
DTSTART:20250309T100000
END:DAYLIGHT
BEGIN:STANDARD
TZOFFSETFROM:-0700
TZOFFSETTO:-0800
TZNAME:PST
DTSTART:20251102T090000
END:STANDARD
BEGIN:DAYLIGHT
TZOFFSETFROM:-0800
TZOFFSETTO:-0700
TZNAME:PDT
DTSTART:20260308T100000
END:DAYLIGHT
BEGIN:STANDARD
TZOFFSETFROM:-0700
TZOFFSETTO:-0800
TZNAME:PST
DTSTART:20261101T090000
END:STANDARD
BEGIN:DAYLIGHT
TZOFFSETFROM:-0800
TZOFFSETTO:-0700
TZNAME:PDT
DTSTART:20270314T100000
END:DAYLIGHT
BEGIN:STANDARD
TZOFFSETFROM:-0700
TZOFFSETTO:-0800
TZNAME:PST
DTSTART:20271107T090000
END:STANDARD
END:VTIMEZONE
BEGIN:VEVENT
DTSTART;VALUE=DATE:20260105
DTEND;VALUE=DATE:20260106
DTSTAMP:20260420T103455
CREATED:20260108T165043Z
LAST-MODIFIED:20260108T165043Z
UID:15891-1767571200-1767657599@focuscollege.com
SUMMARY:New Leadership Roles & Student Affairs Update
DESCRIPTION:January 2026 \nFocus College is proud to announce a series of leadership appointments and internal advancements\, effective January 2026. These changes reflect our continued commitment to academic excellence\, operational strength\, global engagement\, and\, most importantly\, an elevated student experience. \nPlease join us in congratulating the following Focus family members on their well-deserved promotions: \n\nUmar Durrani – Vice President\, Global Engagement & Partnerships\nDr. Sandeep Sandhu – Vice President\, Admissions and Registrar\nGaylyne Archibald – Director\, Academic Administration\nSyed Hasnain Ali – Director\, Operations and HR\n\nThese appointments strengthen our leadership framework and position Focus College for sustainable growth\, deeper partnerships\, and enhanced institutional effectiveness. \n  \nStudent Experience Comes First: Introducing Student Affairs\nTo further enhance the student journey\, Focus College has combined Student Services and Student Engagement into a unified Student Affairs department. This strategic move is designed to streamline support\, improve coordination\, and deliver a more holistic\, student-centered experience from enrollment to graduation. \nThe Student Affairs team will be led by: \n\nPrabhsharan Kaur – Student Affairs Lead\nKayla Tso – Student Affairs Coordinator\nArvind Kaur – Student Affairs Coordinator\n\nThis integrated approach ensures our students receive consistent\, responsive\, and meaningful support\, academically\, socially\, and professionally. As we move into 2026\, these leadership updates mark an important step forward in Focus College’s evolution. We’re building stronger teams\, clearer pathways\, and a future-ready institution\, together. \n  \nYour Future… Our Focus
URL:https://focuscollege.com/event/new-leadership-roles-student-affairs-update/
LOCATION:Focus College\, 13710 94a Ave\, Surrey\, BC\, V3V 1N1\, Canada
ATTACH;FMTTYPE=image/jpeg:https://focuscollege.com/wp-content/uploads/2026/01/2726.jpg
END:VEVENT
END:VCALENDAR