BEGIN:VCALENDAR
VERSION:2.0
PRODID:-//Focus College - ECPv6.15.20//NONSGML v1.0//EN
CALSCALE:GREGORIAN
METHOD:PUBLISH
X-WR-CALNAME:Focus College
X-ORIGINAL-URL:https://focuscollege.com
X-WR-CALDESC:Events for Focus College
REFRESH-INTERVAL;VALUE=DURATION:PT1H
X-Robots-Tag:noindex
X-PUBLISHED-TTL:PT1H
BEGIN:VTIMEZONE
TZID:America/Vancouver
BEGIN:DAYLIGHT
TZOFFSETFROM:-0800
TZOFFSETTO:-0700
TZNAME:PDT
DTSTART:20250309T100000
END:DAYLIGHT
BEGIN:STANDARD
TZOFFSETFROM:-0700
TZOFFSETTO:-0800
TZNAME:PST
DTSTART:20251102T090000
END:STANDARD
BEGIN:DAYLIGHT
TZOFFSETFROM:-0800
TZOFFSETTO:-0700
TZNAME:PDT
DTSTART:20260308T100000
END:DAYLIGHT
BEGIN:STANDARD
TZOFFSETFROM:-0700
TZOFFSETTO:-0800
TZNAME:PST
DTSTART:20261101T090000
END:STANDARD
BEGIN:DAYLIGHT
TZOFFSETFROM:-0800
TZOFFSETTO:-0700
TZNAME:PDT
DTSTART:20270314T100000
END:DAYLIGHT
BEGIN:STANDARD
TZOFFSETFROM:-0700
TZOFFSETTO:-0800
TZNAME:PST
DTSTART:20271107T090000
END:STANDARD
END:VTIMEZONE
BEGIN:VEVENT
DTSTART;VALUE=DATE:20260127
DTEND;VALUE=DATE:20260128
DTSTAMP:20260420T103404
CREATED:20260131T002753Z
LAST-MODIFIED:20260131T002753Z
UID:16184-1769472000-1769558399@focuscollege.com
SUMMARY:Food Handler Safety Training
DESCRIPTION:Food Handler Safety Training is an engaging\, hands-on course that meets British Columbia food handler training requirements. The training was delivered at WorkBC Abbotsford on January 27\, 2026\, and is designed for anyone who prepares\, handles\, or serves food in a professional setting. \nCertification details:\nAfter completing the course\, students will complete the final exam later through the government website. Upon successful completion\, they receive a Food Handler Certificate that is valid for 5 years and recognized by public health authorities across British Columbia.\nBy the end of the program\, students can demonstrate the ability to:\nPrevent food-borne illness through safe handling practices\nComply with BC food safety regulations and standards\nImprove workplace safety and reduce contamination risks\nIncrease customer confidence through safe food service\nPrevent cross-contamination between food\, surfaces\, and utensils\nApply proper personal hygiene to avoid contamination\nMaintain regular cleaning and sanitizing of equipment and food-contact surfaces\nFor more information about food safety training please make a call (778) 624-2010
URL:https://focuscollege.com/event/food-handler-safety-training-2/
LOCATION:Focus College\, 13710 94a Ave\, Surrey\, BC\, V3V 1N1\, Canada
ATTACH;FMTTYPE=image/webp:https://focuscollege.com/wp-content/uploads/2026/01/Food-safety-certificate-Focus-college-2026-scaled.webp
END:VEVENT
END:VCALENDAR