BEGIN:VCALENDAR
VERSION:2.0
PRODID:-//Focus College - ECPv6.15.20//NONSGML v1.0//EN
CALSCALE:GREGORIAN
METHOD:PUBLISH
X-WR-CALNAME:Focus College
X-ORIGINAL-URL:https://focuscollege.com
X-WR-CALDESC:Events for Focus College
REFRESH-INTERVAL;VALUE=DURATION:PT1H
X-Robots-Tag:noindex
X-PUBLISHED-TTL:PT1H
BEGIN:VTIMEZONE
TZID:America/Vancouver
BEGIN:DAYLIGHT
TZOFFSETFROM:-0800
TZOFFSETTO:-0700
TZNAME:PDT
DTSTART:20250309T100000
END:DAYLIGHT
BEGIN:STANDARD
TZOFFSETFROM:-0700
TZOFFSETTO:-0800
TZNAME:PST
DTSTART:20251102T090000
END:STANDARD
BEGIN:DAYLIGHT
TZOFFSETFROM:-0800
TZOFFSETTO:-0700
TZNAME:PDT
DTSTART:20260308T100000
END:DAYLIGHT
BEGIN:STANDARD
TZOFFSETFROM:-0700
TZOFFSETTO:-0800
TZNAME:PST
DTSTART:20261101T090000
END:STANDARD
BEGIN:DAYLIGHT
TZOFFSETFROM:-0800
TZOFFSETTO:-0700
TZNAME:PDT
DTSTART:20270314T100000
END:DAYLIGHT
BEGIN:STANDARD
TZOFFSETFROM:-0700
TZOFFSETTO:-0800
TZNAME:PST
DTSTART:20271107T090000
END:STANDARD
END:VTIMEZONE
BEGIN:VEVENT
DTSTART;VALUE=DATE:20260129
DTEND;VALUE=DATE:20260130
DTSTAMP:20260420T103258
CREATED:20260131T002924Z
LAST-MODIFIED:20260131T002924Z
UID:16187-1769644800-1769731199@focuscollege.com
SUMMARY:Focus College at Central Okanagan Career & Education Expo 2026
DESCRIPTION:Focus College joined the Central Okanagan Career & Education Expo 2026 at the Coast Capri Hotel in Kelowna\, and the place was buzzing.\nWith 45+ exhibitors in the room\, attendees got a real snapshot of what employers are hiring for right now\, plus info on career programs and opportunities to start (or level up) their education through post-secondary options. \nAt our booth\, the top fan-favorites were Community Support Worker\, Virtual Assistant\, and Bylaw Enforcement Level 1 & 2\, lots of great convos with people exploring practical\, job-ready pathways. Big thanks to Black Press for running a well-organized event\, and to everyone who stopped by to connect with our team.
URL:https://focuscollege.com/event/focus-college-at-central-okanagan-career-education-expo-2026/
LOCATION:Focus College\, 13710 94a Ave\, Surrey\, BC\, V3V 1N1\, Canada
ATTACH;FMTTYPE=image/webp:https://focuscollege.com/wp-content/uploads/2026/01/Career-and-Education-Expo-held-in-Kelowna-Focus-College-2026.webp
END:VEVENT
END:VCALENDAR