BEGIN:VCALENDAR
VERSION:2.0
PRODID:-//Focus College - ECPv6.15.20//NONSGML v1.0//EN
CALSCALE:GREGORIAN
METHOD:PUBLISH
X-WR-CALNAME:Focus College
X-ORIGINAL-URL:https://focuscollege.com
X-WR-CALDESC:Events for Focus College
REFRESH-INTERVAL;VALUE=DURATION:PT1H
X-Robots-Tag:noindex
X-PUBLISHED-TTL:PT1H
BEGIN:VTIMEZONE
TZID:America/Vancouver
BEGIN:DAYLIGHT
TZOFFSETFROM:-0800
TZOFFSETTO:-0700
TZNAME:PDT
DTSTART:20250309T100000
END:DAYLIGHT
BEGIN:STANDARD
TZOFFSETFROM:-0700
TZOFFSETTO:-0800
TZNAME:PST
DTSTART:20251102T090000
END:STANDARD
BEGIN:DAYLIGHT
TZOFFSETFROM:-0800
TZOFFSETTO:-0700
TZNAME:PDT
DTSTART:20260308T100000
END:DAYLIGHT
BEGIN:STANDARD
TZOFFSETFROM:-0700
TZOFFSETTO:-0800
TZNAME:PST
DTSTART:20261101T090000
END:STANDARD
BEGIN:DAYLIGHT
TZOFFSETFROM:-0800
TZOFFSETTO:-0700
TZNAME:PDT
DTSTART:20270314T100000
END:DAYLIGHT
BEGIN:STANDARD
TZOFFSETFROM:-0700
TZOFFSETTO:-0800
TZNAME:PST
DTSTART:20271107T090000
END:STANDARD
END:VTIMEZONE
BEGIN:VEVENT
DTSTART;VALUE=DATE:20260330
DTEND;VALUE=DATE:20260331
DTSTAMP:20260420T104003
CREATED:20260331T152331Z
LAST-MODIFIED:20260331T152331Z
UID:16561-1774828800-1774915199@focuscollege.com
SUMMARY:Celebrating the Completion of Our Work Fluent Training – ESL Program
DESCRIPTION:We are happy to celebrate the completion of our Work Fluent Training\, ESL Program for the January cohort\, held from February 17 to March 30\, 2026. Over the past six weeks\, students built practical workplace English skills to help them feel more confident in professional settings. The program covered communication and grammar\, resume and cover letter writing\, interview practice\, workplace culture\, teamwork\, digital etiquette\, and an introduction to the Canadian labour code. \nThis program was designed to be hands-on\, supportive\, and career-focused. By the end of the training\, students gained more confidence\, stronger communication skills\, and a better understanding of how to succeed in today’s workplace.
URL:https://focuscollege.com/event/celebrating-the-completion-of-our-work-fluent-training-esl-program/
LOCATION:Focus College\, 13710 94a Ave\, Surrey\, BC\, V3V 1N1\, Canada
ATTACH;FMTTYPE=image/jpeg:https://focuscollege.com/wp-content/uploads/2026/03/Celebrating-the-Completion-of-Our-Work-Fluent-Training.jpg
END:VEVENT
END:VCALENDAR