BEGIN:VCALENDAR
VERSION:2.0
PRODID:-//Focus College - ECPv6.15.20//NONSGML v1.0//EN
CALSCALE:GREGORIAN
METHOD:PUBLISH
X-WR-CALNAME:Focus College
X-ORIGINAL-URL:https://focuscollege.com
X-WR-CALDESC:Events for Focus College
REFRESH-INTERVAL;VALUE=DURATION:PT1H
X-Robots-Tag:noindex
X-PUBLISHED-TTL:PT1H
BEGIN:VTIMEZONE
TZID:America/Vancouver
BEGIN:DAYLIGHT
TZOFFSETFROM:-0800
TZOFFSETTO:-0700
TZNAME:PDT
DTSTART:20240310T100000
END:DAYLIGHT
BEGIN:STANDARD
TZOFFSETFROM:-0700
TZOFFSETTO:-0800
TZNAME:PST
DTSTART:20241103T090000
END:STANDARD
BEGIN:DAYLIGHT
TZOFFSETFROM:-0800
TZOFFSETTO:-0700
TZNAME:PDT
DTSTART:20250309T100000
END:DAYLIGHT
BEGIN:STANDARD
TZOFFSETFROM:-0700
TZOFFSETTO:-0800
TZNAME:PST
DTSTART:20251102T090000
END:STANDARD
BEGIN:DAYLIGHT
TZOFFSETFROM:-0800
TZOFFSETTO:-0700
TZNAME:PDT
DTSTART:20260308T100000
END:DAYLIGHT
BEGIN:STANDARD
TZOFFSETFROM:-0700
TZOFFSETTO:-0800
TZNAME:PST
DTSTART:20261101T090000
END:STANDARD
END:VTIMEZONE
BEGIN:VEVENT
DTSTART;VALUE=DATE:20250821
DTEND;VALUE=DATE:20250822
DTSTAMP:20260420T180829
CREATED:20250818T150024Z
LAST-MODIFIED:20251106T191132Z
UID:9708-1755734400-1755820799@focuscollege.com
SUMMARY:CSW Graduate Thrives in Rewarding Senior Care Career
DESCRIPTION:“I can honestly say that I would not be in my amazing and fulfilling job as a Link Worker with the Seniors Outreach & Resource Centre if I hadn’t attended Focus College’s Community Support Worker program and been placed there for my practicum.  I love that I am directly utilizing skills in my role that were taught to me in the course (e.g.: writing case notes\, using active listening skills\, etc.); that I understand the terms that my co-workers use when they speak about client issues; and that I have knowledge about the aging process to help me understand what our senior clients are going through (such as cognitive/emotional/physical changes and decline). \nMy training at Focus College has helped me to operate in my position with confidence as I learn even more skills and expand my capabilities.  I am happy to be able to contribute to and help seniors in my community\, and I am so grateful to Focus College for setting me up for success!” \n  \n__Stacey Lalonde
URL:https://focuscollege.com/event/csw-graduate-thrives-in-rewarding-senior-care-career/
LOCATION:Focus College\, 13710 94a Ave\, Surrey\, BC\, V3V 1N1\, Canada
ATTACH;FMTTYPE=image/webp:https://focuscollege.com/wp-content/uploads/2025/08/i-m-prepared-exam-very-well-scaled.webp
END:VEVENT
BEGIN:VEVENT
DTSTART;VALUE=DATE:20250819
DTEND;VALUE=DATE:20250820
DTSTAMP:20260420T180829
CREATED:20250822T154654Z
LAST-MODIFIED:20251106T191141Z
UID:10296-1755561600-1755647999@focuscollege.com
SUMMARY:WorkBC Customer Service Training
DESCRIPTION:A two-day session regrading Customer Service Training was conducted by Prabhsharan Kaur from Focus College at the WorkBC Mission Centre on August 19 and 20\, 2025. The session focused on essential communication skills required for effective customer service\, including strategies for dealing with both online and in-person customers. Participants explored real-life scenarios\, learned how to handle upset or difficult customers\, and practiced techniques such as active listening\, empathy\, and maintaining professionalism. The training aimed to enhance participants’ confidence and readiness to deliver quality customer experiences in various settings.
URL:https://focuscollege.com/event/workbc-customer-service-training/
LOCATION:Focus College\, 13710 94a Ave\, Surrey\, BC\, V3V 1N1\, Canada
ATTACH;FMTTYPE=image/webp:https://focuscollege.com/wp-content/uploads/2025/08/WorkBC-Customer-Service-Training-scaled.webp
END:VEVENT
BEGIN:VEVENT
DTSTART;VALUE=DATE:20250818
DTEND;VALUE=DATE:20250819
DTSTAMP:20260420T180829
CREATED:20250818T143857Z
LAST-MODIFIED:20251106T191152Z
UID:9690-1755475200-1755561599@focuscollege.com
SUMMARY:Focus College Surrey Moves to New Campus
DESCRIPTION:We are excited to announce that Focus College’s Surrey campus is officially moving to a brand-new\, state-of-the-art location! Starting August 30\, 2025\, all Surrey classes and operations will be held at: 13710 94A Avenue\, Surrey\, BC V3V 1N1 \nThis modern campus offers enhanced learning spaces\, upgraded technology\, and improved student facilities to create an even better educational experience. We look forward to welcoming students\, faculty\, and visitors to our new home!
URL:https://focuscollege.com/event/focus-college-surrey-moves-to-new-campus/
LOCATION:Focus College\, 13710 94a Ave\, Surrey\, BC\, V3V 1N1\, Canada
ATTACH;FMTTYPE=image/webp:https://focuscollege.com/wp-content/uploads/2025/08/Focus-College-Surrey-Campus-scaled.webp
END:VEVENT
END:VCALENDAR