BEGIN:VCALENDAR
VERSION:2.0
PRODID:-//Focus College - ECPv6.15.20//NONSGML v1.0//EN
CALSCALE:GREGORIAN
METHOD:PUBLISH
X-WR-CALNAME:Focus College
X-ORIGINAL-URL:https://focuscollege.com
X-WR-CALDESC:Events for Focus College
REFRESH-INTERVAL;VALUE=DURATION:PT1H
X-Robots-Tag:noindex
X-PUBLISHED-TTL:PT1H
BEGIN:VTIMEZONE
TZID:America/Vancouver
BEGIN:DAYLIGHT
TZOFFSETFROM:-0800
TZOFFSETTO:-0700
TZNAME:PDT
DTSTART:20240310T100000
END:DAYLIGHT
BEGIN:STANDARD
TZOFFSETFROM:-0700
TZOFFSETTO:-0800
TZNAME:PST
DTSTART:20241103T090000
END:STANDARD
BEGIN:DAYLIGHT
TZOFFSETFROM:-0800
TZOFFSETTO:-0700
TZNAME:PDT
DTSTART:20250309T100000
END:DAYLIGHT
BEGIN:STANDARD
TZOFFSETFROM:-0700
TZOFFSETTO:-0800
TZNAME:PST
DTSTART:20251102T090000
END:STANDARD
BEGIN:DAYLIGHT
TZOFFSETFROM:-0800
TZOFFSETTO:-0700
TZNAME:PDT
DTSTART:20260308T100000
END:DAYLIGHT
BEGIN:STANDARD
TZOFFSETFROM:-0700
TZOFFSETTO:-0800
TZNAME:PST
DTSTART:20261101T090000
END:STANDARD
END:VTIMEZONE
BEGIN:VEVENT
DTSTART;VALUE=DATE:20250818
DTEND;VALUE=DATE:20250819
DTSTAMP:20260420T182942
CREATED:20250818T143857Z
LAST-MODIFIED:20251106T191152Z
UID:9690-1755475200-1755561599@focuscollege.com
SUMMARY:Focus College Surrey Moves to New Campus
DESCRIPTION:We are excited to announce that Focus College’s Surrey campus is officially moving to a brand-new\, state-of-the-art location! Starting August 30\, 2025\, all Surrey classes and operations will be held at: 13710 94A Avenue\, Surrey\, BC V3V 1N1 \nThis modern campus offers enhanced learning spaces\, upgraded technology\, and improved student facilities to create an even better educational experience. We look forward to welcoming students\, faculty\, and visitors to our new home!
URL:https://focuscollege.com/event/focus-college-surrey-moves-to-new-campus/
LOCATION:Focus College\, 13710 94a Ave\, Surrey\, BC\, V3V 1N1\, Canada
ATTACH;FMTTYPE=image/webp:https://focuscollege.com/wp-content/uploads/2025/08/Focus-College-Surrey-Campus-scaled.webp
END:VEVENT
END:VCALENDAR