BEGIN:VCALENDAR
VERSION:2.0
PRODID:-//Focus College - ECPv6.15.20//NONSGML v1.0//EN
CALSCALE:GREGORIAN
METHOD:PUBLISH
X-WR-CALNAME:Focus College
X-ORIGINAL-URL:https://focuscollege.com
X-WR-CALDESC:Events for Focus College
REFRESH-INTERVAL;VALUE=DURATION:PT1H
X-Robots-Tag:noindex
X-PUBLISHED-TTL:PT1H
BEGIN:VTIMEZONE
TZID:America/Vancouver
BEGIN:DAYLIGHT
TZOFFSETFROM:-0800
TZOFFSETTO:-0700
TZNAME:PDT
DTSTART:20250309T100000
END:DAYLIGHT
BEGIN:STANDARD
TZOFFSETFROM:-0700
TZOFFSETTO:-0800
TZNAME:PST
DTSTART:20251102T090000
END:STANDARD
BEGIN:DAYLIGHT
TZOFFSETFROM:-0800
TZOFFSETTO:-0700
TZNAME:PDT
DTSTART:20260308T100000
END:DAYLIGHT
BEGIN:STANDARD
TZOFFSETFROM:-0700
TZOFFSETTO:-0800
TZNAME:PST
DTSTART:20261101T090000
END:STANDARD
BEGIN:DAYLIGHT
TZOFFSETFROM:-0800
TZOFFSETTO:-0700
TZNAME:PDT
DTSTART:20270314T100000
END:DAYLIGHT
BEGIN:STANDARD
TZOFFSETFROM:-0700
TZOFFSETTO:-0800
TZNAME:PST
DTSTART:20271107T090000
END:STANDARD
END:VTIMEZONE
BEGIN:VEVENT
DTSTART;VALUE=DATE:20260217
DTEND;VALUE=DATE:20260219
DTSTAMP:20260420T071226
CREATED:20260220T170723Z
LAST-MODIFIED:20260220T172519Z
UID:16245-1771286400-1771459199@focuscollege.com
SUMMARY:Customer Service Skills Training
DESCRIPTION:We held a two-day Customer Service Training on February 17–18\, 2026 at the Abbotsford Centre\, led by Prabhsharan Kaur from Focus College. \nThe training was all about practical communication skills for great customer service\, both in person and online. Learners worked on how to speak clearly and professionally\, build quick rapport\, stay positive\, and handle everyday customer situations. We also covered how to respond to questions efficiently\, manage complaints\, and deal with conflict in a calm\, respectful way. \nIt wasn’t a “sit and listen” session. Participants jumped into group discussions\, role-plays\, and real-life scenarios that felt like actual workplace situations. This gave them a chance to practice active listening\, empathy\, problem-solving\, and professional tone in a supportive environment. Everyone stayed engaged and brought strong energy\, sharing ideas\, asking smart questions\, and working well as a team. \nWe also spent time on one of the toughest parts of customer service: handling upset or difficult customers. Learners practiced how to stay calm under pressure\, de-escalate tense moments\, and offer solutions that keep things moving in a positive direction. We also highlighted how important teamwork\, cultural awareness\, and flexibility are when working with people from different backgrounds. \nOverall\, the session was informative\, hands-on\, and confidence-boosting. Learners left with stronger communication skills and a clearer sense of how to deliver a solid customer experience in a real workplace. \n 
URL:https://focuscollege.com/event/customer-service-skills-training/
LOCATION:Focus College\, 13710 94a Ave\, Surrey\, BC\, V3V 1N1\, Canada
ATTACH;FMTTYPE=image/webp:https://focuscollege.com/wp-content/uploads/2026/02/Customer-service-Workshop-Skills-2026-Foucs-College-1-scaled.webp
END:VEVENT
BEGIN:VEVENT
DTSTART;VALUE=DATE:20260226
DTEND;VALUE=DATE:20260227
DTSTAMP:20260420T071226
CREATED:20260303T183818Z
LAST-MODIFIED:20260303T183818Z
UID:16256-1772064000-1772150399@focuscollege.com
SUMMARY:Focus College Delivers Food Handler Safety Training in Mission
DESCRIPTION:Food Handler Safety Training is a practical\, hands-on course that meets British Columbia’s food handler training requirements. This session was delivered at Mission in late February 26\, 2026 and is ideal for anyone who prepares\, handles\, or serves food in a professional setting. \nCertification details:\nAfter finishing the in-class training\, participants complete the final exam online through the government website. Once they pass\, they receive an official Food Handler Certificate that’s valid for 5 years and recognized by public health authorities across British Columbia. \nBy the end of the training\, participants can confidently: \n\nReduce the risk of food-borne illness through safe food handling\nFollow BC food safety regulations and workplace standards\nPrevent contamination and cross-contamination (food\, surfaces\, and utensils)\nPractice proper personal hygiene to keep food safe\nMaintain effective cleaning and sanitizing routines for equipment and food-contact areas\nStrengthen customer confidence through safer food service\n\nFor details or upcoming sessions\, call (778) 624-2010 or visit focuscollege.com
URL:https://focuscollege.com/event/focus-college-delivers-food-handler-safety-training-in-mission/
LOCATION:Focus College\, 13710 94a Ave\, Surrey\, BC\, V3V 1N1\, Canada
ATTACH;FMTTYPE=image/jpeg:https://focuscollege.com/wp-content/uploads/2026/03/Food-Handler-Safety-Training-in-Mission.jpeg
END:VEVENT
END:VCALENDAR